BEGIN:VCALENDAR
VERSION:2.0
PRODID:-//PACK Perfect Ale, Cask &amp; Keg - Wolverhampton - ECPv6.15.20//NONSGML v1.0//EN
CALSCALE:GREGORIAN
METHOD:PUBLISH
X-WR-CALNAME:PACK Perfect Ale, Cask &amp; Keg - Wolverhampton
X-ORIGINAL-URL:https://packwolverhampton.co.uk
X-WR-CALDESC:Events for PACK Perfect Ale, Cask &amp; Keg - Wolverhampton
REFRESH-INTERVAL;VALUE=DURATION:PT1H
X-Robots-Tag:noindex
X-PUBLISHED-TTL:PT1H
BEGIN:VTIMEZONE
TZID:UTC
BEGIN:STANDARD
TZOFFSETFROM:+0000
TZOFFSETTO:+0000
TZNAME:UTC
DTSTART:20250101T000000
END:STANDARD
END:VTIMEZONE
BEGIN:VEVENT
DTSTART;TZID=UTC:20260524T190000
DTEND;TZID=UTC:20260524T190000
DTSTAMP:20260423T095533
CREATED:20260422T135126Z
LAST-MODIFIED:20260422T135354Z
UID:4576-1779649200-1779649200@packwolverhampton.co.uk
SUMMARY:DJ Alfonso (Stump Juice)
DESCRIPTION:DJ Alfonso – Old Stump Juice DJ bringing his vibes to PACK! thgis will be a bank holiday not to be missed!
URL:https://packwolverhampton.co.uk/event/dj-alfonso-stump-juice/
CATEGORIES:DJ Set
END:VEVENT
BEGIN:VEVENT
DTSTART;TZID=UTC:20260530T190000
DTEND;TZID=UTC:20260530T190000
DTSTAMP:20260423T095533
CREATED:20260422T135127Z
LAST-MODIFIED:20260422T135339Z
UID:4577-1780167600-1780167600@packwolverhampton.co.uk
SUMMARY:Quilt We do covers (band)
DESCRIPTION:We Do Covers are a versatile live music band specialising in delivering crowd-pleasing performances of well-known hits from across the decades. With a broad repertoire that spans classic favourites\, contemporary sing-alongs and everything in between\, the band bring energy\, musicality and genuine feel to every set they play. \nKnown for tight arrangements\, engaging stage presence and a knack for reading a room\, We Do Covers are equally at home entertaining a lively crowd or creating a great soundtrack for relaxed evenings. Their performances focus on delivering familiar songs with style and connection\, making them a favourite choice for pubs\, functions and live music nights across the region. \nThey are playing soon at PACK Wolverhampton\, bringing their lively live show and wide-ranging setlist to the bar for a night of music\, atmosphere and good company.
URL:https://packwolverhampton.co.uk/event/quilt-we-do-covers-band-3/
CATEGORIES:Live Music
END:VEVENT
BEGIN:VEVENT
DTSTART;TZID=UTC:20260605T190000
DTEND;TZID=UTC:20260605T190000
DTSTAMP:20260423T095533
CREATED:20260422T135201Z
LAST-MODIFIED:20260422T135338Z
UID:4578-1780686000-1780686000@packwolverhampton.co.uk
SUMMARY:Joe Thomas Music
DESCRIPTION:Joe James Thomas is a West Midlands-based solo musician and live performer known for his engaging voice and dynamic guitar and piano work. Specialising in a mix of rock ’n’ roll\, rhythm ’n’ blues and country-influenced music\, he brings a classic yet personal touch to every set he plays. \nWith a growing local following and regular public gigs across pubs and live music venues\, Joe’s performances blend familiar favourites with expressive musicianship\, creating sets that feel both comfortable and captivating. He has built recognition as a solo artist in the region and works with audiences of all ages. \nJoe James Thomas is playing soon at PACK Wolverhampton\, bringing his lively and personable live show to the bar for an evening of music\, atmosphere and good company.
URL:https://packwolverhampton.co.uk/event/joe-thomas-music-3/
CATEGORIES:Live Music
END:VEVENT
BEGIN:VEVENT
DTSTART;TZID=UTC:20260606T140000
DTEND;TZID=UTC:20260606T140000
DTSTAMP:20260423T095533
CREATED:20260422T135201Z
LAST-MODIFIED:20260422T135400Z
UID:4579-1780754400-1780754400@packwolverhampton.co.uk
SUMMARY:Diggin - DJ Buddha & Friends 2pm - 8pm
DESCRIPTION:An afternoon/early evening of Funk\, Soul & Jazz\, hosted by DJ Buddha & friends
URL:https://packwolverhampton.co.uk/event/diggin-dj-buddha-friends-2pm-8pm/
CATEGORIES:DJ Set
END:VEVENT
BEGIN:VEVENT
DTSTART;TZID=UTC:20260612T190000
DTEND;TZID=UTC:20260612T190000
DTSTAMP:20260423T095533
CREATED:20260422T135201Z
LAST-MODIFIED:20260422T135338Z
UID:4580-1781290800-1781290800@packwolverhampton.co.uk
SUMMARY:The Replicas (band)
DESCRIPTION:The Replicas are a high-energy live party band hailing from the Midlands\, known for delivering dynamic performances packed with crowd-pleasing hits. They play upbeat sets across local venues\, festivals\, weddings and functions\, adapting their sound to suit every occasion and keeping audiences dancing and singing along throughout the night. \nDrawing on a wide repertoire that spans classic and modern favourites\, The Replicas have built a reputation for engaging stage presence\, tight musicianship\, and sets that bridge generations of great music. They’re a popular choice for celebrations and events where the vibe matters as much as the music itself. \nThey’re playing soon at PACK Wolverhampton\, bringing their lively party atmosphere and memorable live show to the bar for a night of music\, good company and dancing.
URL:https://packwolverhampton.co.uk/event/the-replicas-band-3/
CATEGORIES:Live Music
END:VEVENT
BEGIN:VEVENT
DTSTART;TZID=UTC:20260613T190000
DTEND;TZID=UTC:20260613T190000
DTSTAMP:20260423T095533
CREATED:20260422T135201Z
LAST-MODIFIED:20260422T135338Z
UID:4581-1781377200-1781377200@packwolverhampton.co.uk
SUMMARY:The Stiffmeisters (band)
DESCRIPTION:The Stiffmeisters are a high-energy party band known for delivering upbeat pop-punk and rock-leaning anthem sets that get crowds moving. With a reputation for energetic live shows at venues across the Midlands\, they bring a fun\, engaging performance that blends infectious rhythms with sing-along favourites and driving guitar-led sound. \nThe band’s live presence is built around crowd interaction\, spirited stage energy\, and a setlist designed to keep audiences entertained from start to finish. Their performances often draw enthusiastic responses from fans and fellow musicians alike\, with regular appearances at local pubs\, music events and weekend showcases. \nThey’re playing soon at PACK Wolverhampton\, bringing their lively party vibes and memorable live music to the bar for a night that’s sure to get the crowd involved and have everyone singing along.
URL:https://packwolverhampton.co.uk/event/the-stiffmeisters-band-3/
CATEGORIES:Live Music
END:VEVENT
BEGIN:VEVENT
DTSTART;TZID=UTC:20260620T190000
DTEND;TZID=UTC:20260620T190000
DTSTAMP:20260423T095533
CREATED:20260422T135202Z
LAST-MODIFIED:20260422T135338Z
UID:4582-1781982000-1781982000@packwolverhampton.co.uk
SUMMARY:The Long Fuses
DESCRIPTION:Based around the songwriting of Nigel Brookes\, vocals/guitar\, Long Fuses are a Midlands/Shropshire based group comprising Graham Quirk\, guitar (High Cascades\, Lasso the Moon)\, John Large\, drums (Carina Round\, Black Rapids)\, and Scott Edge\, bass. Long Fuses Invoke the transatlantic thread that joins longing and hope and chart a course through the ebbs and eddies formerly navigated by such luminaries as Byrds/Kinks\, Gram Parsons/Nick Lowe\, Wilco/Squeeze.
URL:https://packwolverhampton.co.uk/event/the-long-fuses/
CATEGORIES:Live Music
END:VEVENT
BEGIN:VEVENT
DTSTART;TZID=UTC:20260620T190000
DTEND;TZID=UTC:20260620T190000
DTSTAMP:20260423T095533
CREATED:20260422T135216Z
LAST-MODIFIED:20260422T135338Z
UID:4583-1781982000-1781982000@packwolverhampton.co.uk
SUMMARY:Fruit Machine
DESCRIPTION:Three piece band that is full of dancing beats and rocking tunes We are ready to entertain you
URL:https://packwolverhampton.co.uk/event/fruit-machine/
CATEGORIES:Live Music
END:VEVENT
BEGIN:VEVENT
DTSTART;TZID=UTC:20260704T190000
DTEND;TZID=UTC:20260704T190000
DTSTAMP:20260423T095533
CREATED:20260306T111756Z
LAST-MODIFIED:20260422T135338Z
UID:4367-1783191600-1783191600@packwolverhampton.co.uk
SUMMARY:The Brittannia Beat (band)
DESCRIPTION:The Britannia Beat are a Midlands-based five-piece band celebrating British music with energetic live performances that span mod\, punk\, Britpop and indie classics. With roots stretching back over a decade\, they’ve built a reputation for tight musicianship and crowd-pleasing shows that draw on the best of British rock and pop heritage\, playing hits from artists like The Who\, The Jam\, Oasis\, Blur and more. \nHaving played a wide range of venues and events across the region\, The Britannia Beat bring both passion and polish to their sets\, combining familiar favourites with lively stage energy that keeps audiences engaged and entertained. \nThey’re playing soon at PACK Wolverhampton\, bringing their upbeat live show and broad repertoire of British classics to the bar for a night of memorable music\, good vibes and great atmosphere.
URL:https://packwolverhampton.co.uk/event/the-brittannia-beat-band-4/
CATEGORIES:Live Music
END:VEVENT
BEGIN:VEVENT
DTSTART;TZID=UTC:20260704T190000
DTEND;TZID=UTC:20260704T190000
DTSTAMP:20260423T095533
CREATED:20260422T135217Z
LAST-MODIFIED:20260422T135338Z
UID:4584-1783191600-1783191600@packwolverhampton.co.uk
SUMMARY:Fret Wolf
DESCRIPTION:Fret Wolf are a West Midlands based rock trio playing songs from ZZ Top\, Jimi Hendrix\, Led Zeppelin\, Free\, AC/DC and many many more.
URL:https://packwolverhampton.co.uk/event/fret-wolf/
CATEGORIES:Live Music
END:VEVENT
BEGIN:VEVENT
DTSTART;TZID=UTC:20260710T190000
DTEND;TZID=UTC:20260710T190000
DTSTAMP:20260423T095533
CREATED:20260422T135217Z
LAST-MODIFIED:20260422T135338Z
UID:4586-1783710000-1783710000@packwolverhampton.co.uk
SUMMARY:Vibe Tribe
DESCRIPTION:
URL:https://packwolverhampton.co.uk/event/vibe-tribe/
CATEGORIES:Live Music
END:VEVENT
BEGIN:VEVENT
DTSTART;TZID=UTC:20260717T190000
DTEND;TZID=UTC:20260717T190000
DTSTAMP:20260423T095533
CREATED:20260422T135217Z
LAST-MODIFIED:20260422T135338Z
UID:4587-1784314800-1784314800@packwolverhampton.co.uk
SUMMARY:Giles and Sully
DESCRIPTION:A vocalist/cajon and acoustic guitar duo from the midlands. Playing a range of hits through the decades; funk\, soul\, rock\, pop\, RnB and anything else requested. Available for bookings across the country\,
URL:https://packwolverhampton.co.uk/event/giles-and-sully/
CATEGORIES:Live Music
END:VEVENT
BEGIN:VEVENT
DTSTART;TZID=UTC:20260718T190000
DTEND;TZID=UTC:20260718T190000
DTSTAMP:20260423T095533
CREATED:20260422T135231Z
LAST-MODIFIED:20260422T135338Z
UID:4588-1784401200-1784401200@packwolverhampton.co.uk
SUMMARY:Recover (band)
DESCRIPTION:Birmingham’s best rock covers band! 4 experienced and talented musicians that love playing loud!
URL:https://packwolverhampton.co.uk/event/recover-band/
CATEGORIES:Live Music
END:VEVENT
BEGIN:VEVENT
DTSTART;TZID=UTC:20260801T190000
DTEND;TZID=UTC:20260801T190000
DTSTAMP:20260423T095534
CREATED:20260422T135231Z
LAST-MODIFIED:20260422T135338Z
UID:4589-1785610800-1785610800@packwolverhampton.co.uk
SUMMARY:Pseudophonics
DESCRIPTION:We are a Cover Band based in the West Midlands. Currently doing a 50/50 split of Stereophonics songs and a mix of popular covers in a similar vein
URL:https://packwolverhampton.co.uk/event/pseudophonics/
CATEGORIES:Live Music
END:VEVENT
BEGIN:VEVENT
DTSTART;TZID=UTC:20260918T190000
DTEND;TZID=UTC:20260918T190000
DTSTAMP:20260423T095534
CREATED:20260422T135231Z
LAST-MODIFIED:20260422T135338Z
UID:4590-1789758000-1789758000@packwolverhampton.co.uk
SUMMARY:The Replicas (band)
DESCRIPTION:The Replicas are a high-energy live party band hailing from the Midlands\, known for delivering dynamic performances packed with crowd-pleasing hits. They play upbeat sets across local venues\, festivals\, weddings and functions\, adapting their sound to suit every occasion and keeping audiences dancing and singing along throughout the night. \nDrawing on a wide repertoire that spans classic and modern favourites\, The Replicas have built a reputation for engaging stage presence\, tight musicianship\, and sets that bridge generations of great music. They’re a popular choice for celebrations and events where the vibe matters as much as the music itself. \nThey’re playing soon at PACK Wolverhampton\, bringing their lively party atmosphere and memorable live show to the bar for a night of music\, good company and dancing.
URL:https://packwolverhampton.co.uk/event/the-replicas-band-4/
CATEGORIES:Live Music
END:VEVENT
END:VCALENDAR