BEGIN:VCALENDAR
VERSION:2.0
PRODID:-//PACK Perfect Ale, Cask &amp; Keg - Wolverhampton - ECPv6.15.20//NONSGML v1.0//EN
CALSCALE:GREGORIAN
METHOD:PUBLISH
X-WR-CALNAME:PACK Perfect Ale, Cask &amp; Keg - Wolverhampton
X-ORIGINAL-URL:https://packwolverhampton.co.uk
X-WR-CALDESC:Events for PACK Perfect Ale, Cask &amp; Keg - Wolverhampton
REFRESH-INTERVAL;VALUE=DURATION:PT1H
X-Robots-Tag:noindex
X-PUBLISHED-TTL:PT1H
BEGIN:VTIMEZONE
TZID:UTC
BEGIN:STANDARD
TZOFFSETFROM:+0000
TZOFFSETTO:+0000
TZNAME:UTC
DTSTART:20250101T000000
END:STANDARD
END:VTIMEZONE
BEGIN:VEVENT
DTSTART;TZID=UTC:20260508T200000
DTEND;TZID=UTC:20260508T200000
DTSTAMP:20260423T100412
CREATED:20260422T134925Z
LAST-MODIFIED:20260422T135339Z
UID:4571-1778270400-1778270400@packwolverhampton.co.uk
SUMMARY:Bad Penny (band)
DESCRIPTION:Live covers band\, playing rock music from a range of eras.
URL:https://packwolverhampton.co.uk/event/bad-penny-band/
CATEGORIES:Live Music
END:VEVENT
BEGIN:VEVENT
DTSTART;TZID=UTC:20260507T190000
DTEND;TZID=UTC:20260507T190000
DTSTAMP:20260423T100412
CREATED:20260422T134925Z
LAST-MODIFIED:20260422T135647Z
UID:4570-1778180400-1778180400@packwolverhampton.co.uk
SUMMARY:Sup & Spin - Vinyl Night
DESCRIPTION:Bring your own vinyl night and book your 15min slot!
URL:https://packwolverhampton.co.uk/event/sup-spin-vinyl-night-4/
CATEGORIES:Vinyl Night
END:VEVENT
BEGIN:VEVENT
DTSTART;TZID=UTC:20260501T170000
DTEND;TZID=UTC:20260501T170000
DTSTAMP:20260423T100412
CREATED:20260422T134925Z
LAST-MODIFIED:20260422T135339Z
UID:4569-1777654800-1777654800@packwolverhampton.co.uk
SUMMARY:Anthony Doyle
DESCRIPTION:A one stop walking\, talking\, singing jukebox!
URL:https://packwolverhampton.co.uk/event/anthony-doyle-2/
CATEGORIES:Live Music
END:VEVENT
BEGIN:VEVENT
DTSTART;TZID=UTC:20260425T190000
DTEND;TZID=UTC:20260425T190000
DTSTAMP:20260423T100412
CREATED:20260306T111742Z
LAST-MODIFIED:20260422T134924Z
UID:4365-1777143600-1777143600@packwolverhampton.co.uk
SUMMARY:Revolution (band)
DESCRIPTION:
URL:https://packwolverhampton.co.uk/event/revolution-band-3/
CATEGORIES:Live Music
END:VEVENT
BEGIN:VEVENT
DTSTART;TZID=UTC:20260424T190000
DTEND;TZID=UTC:20260424T190000
DTSTAMP:20260423T100412
CREATED:20260205T170712Z
LAST-MODIFIED:20260422T134724Z
UID:4010-1777057200-1777057200@packwolverhampton.co.uk
SUMMARY:The Puddled People
DESCRIPTION:Band Available For Hire Around Birmingham And The Greater West Midlands Area Playing Covers From The 70s All The Way To The 2010’s
URL:https://packwolverhampton.co.uk/event/the-puddled-people-2/
CATEGORIES:Live Music
END:VEVENT
BEGIN:VEVENT
DTSTART;TZID=UTC:20260418T200000
DTEND;TZID=UTC:20260418T200000
DTSTAMP:20260423T100412
CREATED:20260306T111741Z
LAST-MODIFIED:20260422T134724Z
UID:4363-1776542400-1776542400@packwolverhampton.co.uk
SUMMARY:Kev Ruby Astin
DESCRIPTION:tunes tunes tunes … and living the dream x
URL:https://packwolverhampton.co.uk/event/kev-ruby-astin-2/
CATEGORIES:Live Music
END:VEVENT
BEGIN:VEVENT
DTSTART;TZID=UTC:20260417T200000
DTEND;TZID=UTC:20260417T200000
DTSTAMP:20260423T100412
CREATED:20260422T134724Z
LAST-MODIFIED:20260422T135705Z
UID:4565-1776456000-1776456000@packwolverhampton.co.uk
SUMMARY:Jason and the arguments
DESCRIPTION:A BRITISH POWER TRIO PLAYING COVERS FROM THE WHO THE JAM THE CLASH PUNK AND NEW WAVE
URL:https://packwolverhampton.co.uk/event/jason-and-the-arguments/
CATEGORIES:Live Music
END:VEVENT
BEGIN:VEVENT
DTSTART;TZID=UTC:20260417T200000
DTEND;TZID=UTC:20260417T200000
DTSTAMP:20260423T100412
CREATED:20260422T134723Z
LAST-MODIFIED:20260422T135658Z
UID:4564-1776456000-1776456000@packwolverhampton.co.uk
SUMMARY:PACK'd House presents - Ibiza House
DESCRIPTION:DJ Dan Paul & DJ Guy Shipley\, go back to back\, Vinyl vs digital with some house classics\, not to be missed.
URL:https://packwolverhampton.co.uk/event/packd-house-presents-ibiza-house/
CATEGORIES:DJ Set
END:VEVENT
BEGIN:VEVENT
DTSTART;TZID=UTC:20260411T170000
DTEND;TZID=UTC:20260411T170000
DTSTAMP:20260423T100412
CREATED:20260306T111741Z
LAST-MODIFIED:20260422T134723Z
UID:4362-1775926800-1775926800@packwolverhampton.co.uk
SUMMARY:Private Event (venue closed to public)
DESCRIPTION:
URL:https://packwolverhampton.co.uk/event/private-event-venue-closed-to-public/
CATEGORIES:Live Music
END:VEVENT
BEGIN:VEVENT
DTSTART;TZID=UTC:20260410T190000
DTEND;TZID=UTC:20260410T190000
DTSTAMP:20260423T100412
CREATED:20260422T134709Z
LAST-MODIFIED:20260422T135714Z
UID:4562-1775847600-1775847600@packwolverhampton.co.uk
SUMMARY:Ash Sheehan (The Twang)
DESCRIPTION:Ash Sheehan\, many of you will know from local band The Twang\, Ash will be bringing his lively solo set to PACK!
URL:https://packwolverhampton.co.uk/event/ash-sheehan-the-twang/
CATEGORIES:Live Music
END:VEVENT
BEGIN:VEVENT
DTSTART;TZID=UTC:20260404T190000
DTEND;TZID=UTC:20260404T190000
DTSTAMP:20260423T100412
CREATED:20260306T111727Z
LAST-MODIFIED:20260422T134709Z
UID:4361-1775329200-1775329200@packwolverhampton.co.uk
SUMMARY:The Brittannia Beat (band)
DESCRIPTION:The Britannia Beat are a Midlands-based five-piece band celebrating British music with energetic live performances that span mod\, punk\, Britpop and indie classics. With roots stretching back over a decade\, they’ve built a reputation for tight musicianship and crowd-pleasing shows that draw on the best of British rock and pop heritage\, playing hits from artists like The Who\, The Jam\, Oasis\, Blur and more. \nHaving played a wide range of venues and events across the region\, The Britannia Beat bring both passion and polish to their sets\, combining familiar favourites with lively stage energy that keeps audiences engaged and entertained. \nThey’re playing soon at PACK Wolverhampton\, bringing their upbeat live show and broad repertoire of British classics to the bar for a night of memorable music\, good vibes and great atmosphere.
URL:https://packwolverhampton.co.uk/event/the-brittannia-beat-band-3/
CATEGORIES:Live Music
END:VEVENT
BEGIN:VEVENT
DTSTART;TZID=UTC:20260403T190000
DTEND;TZID=UTC:20260403T190000
DTSTAMP:20260423T100412
CREATED:20260306T111726Z
LAST-MODIFIED:20260422T134709Z
UID:4360-1775242800-1775242800@packwolverhampton.co.uk
SUMMARY:DJ Andy Foddy - 80's Mix
DESCRIPTION:80’s muisc like you have never heard it before!
URL:https://packwolverhampton.co.uk/event/dj-andy-foddy-80s-mix/
CATEGORIES:DJ Set
END:VEVENT
BEGIN:VEVENT
DTSTART;TZID=UTC:20260402T190000
DTEND;TZID=UTC:20260402T190000
DTSTAMP:20260423T100412
CREATED:20260306T111726Z
LAST-MODIFIED:20260422T134709Z
UID:4359-1775156400-1775156400@packwolverhampton.co.uk
SUMMARY:Sup & Spin - Vinyl Night
DESCRIPTION:Bring your own vinyl night and book your 15min slot!
URL:https://packwolverhampton.co.uk/event/sup-spin-vinyl-night-3/
CATEGORIES:Vinyl Night
END:VEVENT
BEGIN:VEVENT
DTSTART;TZID=UTC:20260329T120000
DTEND;TZID=UTC:20260329T120000
DTSTAMP:20260423T100412
CREATED:20260306T111726Z
LAST-MODIFIED:20260422T134708Z
UID:4358-1774785600-1774785600@packwolverhampton.co.uk
SUMMARY:Closed - Staff Party
DESCRIPTION:
URL:https://packwolverhampton.co.uk/event/closed-staff-party/
CATEGORIES:Live Music
END:VEVENT
BEGIN:VEVENT
DTSTART;TZID=UTC:20260328T190000
DTEND;TZID=UTC:20260328T190000
DTSTAMP:20260423T100412
CREATED:20260306T111712Z
LAST-MODIFIED:20260422T134646Z
UID:4357-1774724400-1774724400@packwolverhampton.co.uk
SUMMARY:Nyli Lewis
DESCRIPTION:Nyli Lewis is a dynamic multi-genre artist blending indie\, pop\, reggae\, and rock into an energetic and engaging live experience. Known for his creative use of live looping\, Nyli builds rich layers of rhythm\, melody\, and vocals in real time\, turning every performance into something unique
URL:https://packwolverhampton.co.uk/event/nyli-lewis/
CATEGORIES:Live Music
END:VEVENT
BEGIN:VEVENT
DTSTART;TZID=UTC:20260327T190000
DTEND;TZID=UTC:20260327T190000
DTSTAMP:20260423T100412
CREATED:20260306T111712Z
LAST-MODIFIED:20260422T134646Z
UID:4356-1774638000-1774638000@packwolverhampton.co.uk
SUMMARY:DJ Buddha - Brand New Heavies Pre & Post Party
DESCRIPTION:Brand New Heavies Pre & Post Party
URL:https://packwolverhampton.co.uk/event/dj-buddha-brand-new-heavies-pre-post-party/
CATEGORIES:Live Music
END:VEVENT
BEGIN:VEVENT
DTSTART;TZID=UTC:20260322T160000
DTEND;TZID=UTC:20260322T160000
DTSTAMP:20260423T100412
CREATED:20260306T111711Z
LAST-MODIFIED:20260422T134646Z
UID:4355-1774195200-1774195200@packwolverhampton.co.uk
SUMMARY:Open Mic - Hosted by Kupid
DESCRIPTION:Just bring an instrument!
URL:https://packwolverhampton.co.uk/event/open-mic-hosted-by-kupid/
CATEGORIES:Live Music,Open Mic
END:VEVENT
BEGIN:VEVENT
DTSTART;TZID=UTC:20260321T190000
DTEND;TZID=UTC:20260321T190000
DTSTAMP:20260423T100412
CREATED:20260205T170712Z
LAST-MODIFIED:20260422T134646Z
UID:4008-1774119600-1774119600@packwolverhampton.co.uk
SUMMARY:Joe Thomas Music
DESCRIPTION:Joe James Thomas is a West Midlands-based solo musician and live performer known for his engaging voice and dynamic guitar and piano work. Specialising in a mix of rock ’n’ roll\, rhythm ’n’ blues and country-influenced music\, he brings a classic yet personal touch to every set he plays. \nWith a growing local following and regular public gigs across pubs and live music venues\, Joe’s performances blend familiar favourites with expressive musicianship\, creating sets that feel both comfortable and captivating. He has built recognition as a solo artist in the region and works with audiences of all ages. \nJoe James Thomas is playing soon at PACK Wolverhampton\, bringing his lively and personable live show to the bar for an evening of music\, atmosphere and good company.
URL:https://packwolverhampton.co.uk/event/joe-thomas-music-2/
CATEGORIES:Live Music
END:VEVENT
BEGIN:VEVENT
DTSTART;TZID=UTC:20260320T190000
DTEND;TZID=UTC:20260320T190000
DTSTAMP:20260423T100412
CREATED:20260422T134646Z
LAST-MODIFIED:20260422T134646Z
UID:4557-1774033200-1774033200@packwolverhampton.co.uk
SUMMARY:Hot Rod 55
DESCRIPTION:High octane rock n roll for the 21st century!\nThree Piece rock n roll
URL:https://packwolverhampton.co.uk/event/hot-rod-55/
END:VEVENT
BEGIN:VEVENT
DTSTART;TZID=UTC:20260320T190000
DTEND;TZID=UTC:20260320T190000
DTSTAMP:20260423T100412
CREATED:20260205T170702Z
LAST-MODIFIED:20260306T111711Z
UID:4007-1774033200-1774033200@packwolverhampton.co.uk
SUMMARY:Chronicles of Zee (band)
DESCRIPTION:Chronicles of Zee are a dynamic multi-genre band from Wolverhampton\, combining rock\, reggae\, soul and pop influences into vibrant live performances. With over a decade of experience on stage\, they’ve built a reputation for energetic sets that blend classic covers with their own creative flair\, delivering music that’s both familiar and exciting. \nMade up of skilled musicians on vocals\, guitar\, bass and drums\, the band are known for connecting with audiences through groove\, melody and strong stage presence. Their live shows offer something for everyone\, from rhythm-driven favourites to reinterpretations that keep listeners engaged from start to finish. \nChronicles of Zee are playing soon at PACK Wolverhampton\, bringing their lively live sound and infectious energy to the bar for a night of music\, atmosphere and good company.
URL:https://packwolverhampton.co.uk/event/chronicles-of-zee-band-2/
CATEGORIES:Live Music
END:VEVENT
BEGIN:VEVENT
DTSTART;TZID=UTC:20260314T190000
DTEND;TZID=UTC:20260314T190000
DTSTAMP:20260423T100412
CREATED:20260205T170702Z
LAST-MODIFIED:20260422T134631Z
UID:4005-1773514800-1773514800@packwolverhampton.co.uk
SUMMARY:Diggin - DJ Buddha & Friends 2pm - 7pm
DESCRIPTION:
URL:https://packwolverhampton.co.uk/event/diggin-dj-buddha-friends-2pm-7pm-2/
CATEGORIES:DJ Set
END:VEVENT
BEGIN:VEVENT
DTSTART;TZID=UTC:20260314T190000
DTEND;TZID=UTC:20260314T190000
DTSTAMP:20260423T100412
CREATED:20260205T170702Z
LAST-MODIFIED:20260422T134631Z
UID:4006-1773514800-1773514800@packwolverhampton.co.uk
SUMMARY:The Replicas (band)
DESCRIPTION:The Replicas are a high-energy live party band hailing from the Midlands\, known for delivering dynamic performances packed with crowd-pleasing hits. They play upbeat sets across local venues\, festivals\, weddings and functions\, adapting their sound to suit every occasion and keeping audiences dancing and singing along throughout the night. \nDrawing on a wide repertoire that spans classic and modern favourites\, The Replicas have built a reputation for engaging stage presence\, tight musicianship\, and sets that bridge generations of great music. They’re a popular choice for celebrations and events where the vibe matters as much as the music itself. \nThey’re playing soon at PACK Wolverhampton\, bringing their lively party atmosphere and memorable live show to the bar for a night of music\, good company and dancing.
URL:https://packwolverhampton.co.uk/event/the-replicas-band-2/
CATEGORIES:Live Music
END:VEVENT
BEGIN:VEVENT
DTSTART;TZID=UTC:20260313T190000
DTEND;TZID=UTC:20260313T190000
DTSTAMP:20260423T100412
CREATED:20260205T170702Z
LAST-MODIFIED:20260422T134631Z
UID:4004-1773428400-1773428400@packwolverhampton.co.uk
SUMMARY:Brandon Grindley
DESCRIPTION:“Brandon Grindey is a live musician and singer-guitarist known for lively performances across venues in the Midlands and North West\, bringing engaging acoustic sets and crowd-friendly energy to every show. He regularly features at local pubs\, bars\, and music nights where his blend of well-picked covers and dynamic live delivery create a welcoming musical atmosphere for audiences of all ages. \nBrandon’s live appearances often highlight his ability to connect with a crowd and deliver songs that keep people listening\, singing along\, and coming back for more. His style bridges familiar favourites with an easygoing acoustic sensibility that suits both laid-back sessions and livelier gig settings. \nHe’s playing soon at PACK Wolverhampton\, bringing his vibrant live set to the bar for an evening of enjoyable music\, great vibes\, and a night worth remembering.”
URL:https://packwolverhampton.co.uk/event/brandon-grindley-3/
CATEGORIES:Live Music
END:VEVENT
BEGIN:VEVENT
DTSTART;TZID=UTC:20260312T190000
DTEND;TZID=UTC:20260312T190000
DTSTAMP:20260423T100412
CREATED:20260306T111655Z
LAST-MODIFIED:20260422T134630Z
UID:4350-1773342000-1773342000@packwolverhampton.co.uk
SUMMARY:Quiz - Raising funds for Leslie's Care Packages
DESCRIPTION:Where Support Begins\, Leslie’s Care Packages is an award-winning volunteer-led initiative\, offering practical support and heartfelt connection to those facing hardship across the Black Country and beyond—powered by the kindness of our community.
URL:https://packwolverhampton.co.uk/event/quiz-raising-funds-for-leslies-care-packages/
CATEGORIES:Quiz
END:VEVENT
BEGIN:VEVENT
DTSTART;TZID=UTC:20260307T150000
DTEND;TZID=UTC:20260307T150000
DTSTAMP:20260423T100412
CREATED:20260306T111640Z
LAST-MODIFIED:20260422T134616Z
UID:4349-1772895600-1772895600@packwolverhampton.co.uk
SUMMARY:Anthony Doyle
DESCRIPTION:A one stop walking\, talking\, singing jukebox!
URL:https://packwolverhampton.co.uk/event/anthony-doyle/
CATEGORIES:Live Music
END:VEVENT
BEGIN:VEVENT
DTSTART;TZID=UTC:20260306T190000
DTEND;TZID=UTC:20260306T190000
DTSTAMP:20260423T100412
CREATED:20260422T134616Z
LAST-MODIFIED:20260422T134616Z
UID:4555-1772823600-1772823600@packwolverhampton.co.uk
SUMMARY:Bleak December
DESCRIPTION:
URL:https://packwolverhampton.co.uk/event/bleak-december/
END:VEVENT
BEGIN:VEVENT
DTSTART;TZID=UTC:20260305T190000
DTEND;TZID=UTC:20260305T190000
DTSTAMP:20260423T100412
CREATED:20260205T170702Z
LAST-MODIFIED:20260422T134616Z
UID:4003-1772737200-1772737200@packwolverhampton.co.uk
SUMMARY:Sup & Spin - Vinyl Night
DESCRIPTION:Bring your own vinyl night and book your 15min slot!
URL:https://packwolverhampton.co.uk/event/sup-spin-vinyl-night-2/
CATEGORIES:Vinyl Night
END:VEVENT
BEGIN:VEVENT
DTSTART;TZID=UTC:20260303T190000
DTEND;TZID=UTC:20260303T190000
DTSTAMP:20260423T100412
CREATED:20260306T111639Z
LAST-MODIFIED:20260422T134616Z
UID:4347-1772564400-1772564400@packwolverhampton.co.uk
SUMMARY:Kev Ruby Astin
DESCRIPTION:tunes tunes tunes … and living the dream x
URL:https://packwolverhampton.co.uk/event/kev-ruby-astin/
CATEGORIES:Live Music
END:VEVENT
BEGIN:VEVENT
DTSTART;TZID=UTC:20260228T190000
DTEND;TZID=UTC:20260228T190000
DTSTAMP:20260423T100413
CREATED:20260205T170656Z
LAST-MODIFIED:20260422T134616Z
UID:4002-1772305200-1772305200@packwolverhampton.co.uk
SUMMARY:Rockachella
DESCRIPTION:Rockacella are a lively live music act bringing a spirited blend of folk\, blues\, country and alternative tunes to venues across the region. With a reputation for engaging performances and a varied setlist drawn from well-loved styles\, they’ve been building a presence on the local live music scene through regular pub gigs\, open-mic nights and event appearances. \nKnown for their warm interaction with audiences and an easy-going stage style\, Rockacella’s performances often capture the feel of a genuine live session — drawing in crowds to sing along\, tap their feet and enjoy the moment together. They’ve shared highlights from gigs at venues like The Cock and Magpie and The Crown Inn\, showing up with energy and musical versatility across settings. \nRockacella are playing soon at PACK Wolverhampton\, bringing their engaging live sound and welcoming vibe to the bar for a night of music\, atmosphere and good company.
URL:https://packwolverhampton.co.uk/event/rockachella/
CATEGORIES:Live Music
END:VEVENT
BEGIN:VEVENT
DTSTART;TZID=UTC:20260227T190000
DTEND;TZID=UTC:20260227T190000
DTSTAMP:20260423T100413
CREATED:20260306T111624Z
LAST-MODIFIED:20260422T134601Z
UID:4345-1772218800-1772218800@packwolverhampton.co.uk
SUMMARY:Tim Berry
DESCRIPTION:
URL:https://packwolverhampton.co.uk/event/tim-berry/
CATEGORIES:Live Music
END:VEVENT
END:VCALENDAR