BEGIN:VCALENDAR
VERSION:2.0
PRODID:-//PACK Perfect Ale, Cask &amp; Keg - Wolverhampton - ECPv6.15.20//NONSGML v1.0//EN
CALSCALE:GREGORIAN
METHOD:PUBLISH
X-WR-CALNAME:PACK Perfect Ale, Cask &amp; Keg - Wolverhampton
X-ORIGINAL-URL:https://packwolverhampton.co.uk
X-WR-CALDESC:Events for PACK Perfect Ale, Cask &amp; Keg - Wolverhampton
REFRESH-INTERVAL;VALUE=DURATION:PT1H
X-Robots-Tag:noindex
X-PUBLISHED-TTL:PT1H
BEGIN:VTIMEZONE
TZID:UTC
BEGIN:STANDARD
TZOFFSETFROM:+0000
TZOFFSETTO:+0000
TZNAME:UTC
DTSTART:20250101T000000
END:STANDARD
END:VTIMEZONE
BEGIN:VEVENT
DTSTART;TZID=UTC:20260507T190000
DTEND;TZID=UTC:20260507T190000
DTSTAMP:20260423T095121
CREATED:20260422T134925Z
LAST-MODIFIED:20260422T135647Z
UID:4570-1778180400-1778180400@packwolverhampton.co.uk
SUMMARY:Sup & Spin - Vinyl Night
DESCRIPTION:Bring your own vinyl night and book your 15min slot!
URL:https://packwolverhampton.co.uk/event/sup-spin-vinyl-night-4/
CATEGORIES:Vinyl Night
END:VEVENT
END:VCALENDAR