BEGIN:VCALENDAR
VERSION:2.0
PRODID:-//PACK Perfect Ale, Cask &amp; Keg - Wolverhampton - ECPv6.15.16//NONSGML v1.0//EN
CALSCALE:GREGORIAN
METHOD:PUBLISH
X-ORIGINAL-URL:https://packwolverhampton.co.uk
X-WR-CALDESC:Events for PACK Perfect Ale, Cask &amp; Keg - Wolverhampton
REFRESH-INTERVAL;VALUE=DURATION:PT1H
X-Robots-Tag:noindex
X-PUBLISHED-TTL:PT1H
BEGIN:VTIMEZONE
TZID:UTC
BEGIN:STANDARD
TZOFFSETFROM:+0000
TZOFFSETTO:+0000
TZNAME:UTC
DTSTART:20250101T000000
END:STANDARD
END:VTIMEZONE
BEGIN:VEVENT
DTSTART;TZID=UTC:20260320T190000
DTEND;TZID=UTC:20260320T190000
DTSTAMP:20260419T195743
CREATED:20260205T170702Z
LAST-MODIFIED:20260306T111711Z
UID:4007-1774033200-1774033200@packwolverhampton.co.uk
SUMMARY:Chronicles of Zee (band)
DESCRIPTION:Chronicles of Zee are a dynamic multi-genre band from Wolverhampton\, combining rock\, reggae\, soul and pop influences into vibrant live performances. With over a decade of experience on stage\, they’ve built a reputation for energetic sets that blend classic covers with their own creative flair\, delivering music that’s both familiar and exciting. \nMade up of skilled musicians on vocals\, guitar\, bass and drums\, the band are known for connecting with audiences through groove\, melody and strong stage presence. Their live shows offer something for everyone\, from rhythm-driven favourites to reinterpretations that keep listeners engaged from start to finish. \nChronicles of Zee are playing soon at PACK Wolverhampton\, bringing their lively live sound and infectious energy to the bar for a night of music\, atmosphere and good company.
URL:https://packwolverhampton.co.uk/event/chronicles-of-zee-band-2/
CATEGORIES:Live Music
END:VEVENT
END:VCALENDAR