BEGIN:VCALENDAR
VERSION:2.0
PRODID:-//PACK Perfect Ale, Cask &amp; Keg - Wolverhampton - ECPv6.15.16//NONSGML v1.0//EN
CALSCALE:GREGORIAN
METHOD:PUBLISH
X-ORIGINAL-URL:https://packwolverhampton.co.uk
X-WR-CALDESC:Events for PACK Perfect Ale, Cask &amp; Keg - Wolverhampton
REFRESH-INTERVAL;VALUE=DURATION:PT1H
X-Robots-Tag:noindex
X-PUBLISHED-TTL:PT1H
BEGIN:VTIMEZONE
TZID:UTC
BEGIN:STANDARD
TZOFFSETFROM:+0000
TZOFFSETTO:+0000
TZNAME:UTC
DTSTART:20250101T000000
END:STANDARD
END:VTIMEZONE
BEGIN:VEVENT
DTSTART;TZID=UTC:20260314T190000
DTEND;TZID=UTC:20260314T190000
DTSTAMP:20260419T195743
CREATED:20260205T170702Z
LAST-MODIFIED:20260306T111656Z
UID:4006-1773514800-1773514800@packwolverhampton.co.uk
SUMMARY:The Replicas (band)
DESCRIPTION:The Replicas are a high-energy live party band hailing from the Midlands\, known for delivering dynamic performances packed with crowd-pleasing hits. They play upbeat sets across local venues\, festivals\, weddings and functions\, adapting their sound to suit every occasion and keeping audiences dancing and singing along throughout the night. \nDrawing on a wide repertoire that spans classic and modern favourites\, The Replicas have built a reputation for engaging stage presence\, tight musicianship\, and sets that bridge generations of great music. They’re a popular choice for celebrations and events where the vibe matters as much as the music itself. \nThey’re playing soon at PACK Wolverhampton\, bringing their lively party atmosphere and memorable live show to the bar for a night of music\, good company and dancing.
URL:https://packwolverhampton.co.uk/event/the-replicas-band-2/
CATEGORIES:Live Music
END:VEVENT
END:VCALENDAR