BEGIN:VCALENDAR
VERSION:2.0
PRODID:-//PACK Perfect Ale, Cask &amp; Keg - Wolverhampton - ECPv6.15.16//NONSGML v1.0//EN
CALSCALE:GREGORIAN
METHOD:PUBLISH
X-WR-CALNAME:PACK Perfect Ale, Cask &amp; Keg - Wolverhampton
X-ORIGINAL-URL:https://packwolverhampton.co.uk
X-WR-CALDESC:Events for PACK Perfect Ale, Cask &amp; Keg - Wolverhampton
REFRESH-INTERVAL;VALUE=DURATION:PT1H
X-Robots-Tag:noindex
X-PUBLISHED-TTL:PT1H
BEGIN:VTIMEZONE
TZID:UTC
BEGIN:STANDARD
TZOFFSETFROM:+0000
TZOFFSETTO:+0000
TZNAME:UTC
DTSTART:20250101T000000
END:STANDARD
END:VTIMEZONE
BEGIN:VEVENT
DTSTART;TZID=UTC:20260228T190000
DTEND;TZID=UTC:20260228T190000
DTSTAMP:20260419T195710
CREATED:20260205T170656Z
LAST-MODIFIED:20260306T111639Z
UID:4002-1772305200-1772305200@packwolverhampton.co.uk
SUMMARY:Rockachella
DESCRIPTION:Rockacella are a lively live music act bringing a spirited blend of folk\, blues\, country and alternative tunes to venues across the region. With a reputation for engaging performances and a varied setlist drawn from well-loved styles\, they’ve been building a presence on the local live music scene through regular pub gigs\, open-mic nights and event appearances. \nKnown for their warm interaction with audiences and an easy-going stage style\, Rockacella’s performances often capture the feel of a genuine live session — drawing in crowds to sing along\, tap their feet and enjoy the moment together. They’ve shared highlights from gigs at venues like The Cock and Magpie and The Crown Inn\, showing up with energy and musical versatility across settings. \nRockacella are playing soon at PACK Wolverhampton\, bringing their engaging live sound and welcoming vibe to the bar for a night of music\, atmosphere and good company.
URL:https://packwolverhampton.co.uk/event/rockachella/
CATEGORIES:Live Music
END:VEVENT
END:VCALENDAR