BEGIN:VCALENDAR
VERSION:2.0
PRODID:-//PACK Perfect Ale, Cask &amp; Keg - Wolverhampton - ECPv6.15.16//NONSGML v1.0//EN
CALSCALE:GREGORIAN
METHOD:PUBLISH
X-WR-CALNAME:PACK Perfect Ale, Cask &amp; Keg - Wolverhampton
X-ORIGINAL-URL:https://packwolverhampton.co.uk
X-WR-CALDESC:Events for PACK Perfect Ale, Cask &amp; Keg - Wolverhampton
REFRESH-INTERVAL;VALUE=DURATION:PT1H
X-Robots-Tag:noindex
X-PUBLISHED-TTL:PT1H
BEGIN:VTIMEZONE
TZID:UTC
BEGIN:STANDARD
TZOFFSETFROM:+0000
TZOFFSETTO:+0000
TZNAME:UTC
DTSTART:20250101T000000
END:STANDARD
END:VTIMEZONE
BEGIN:VEVENT
DTSTART;TZID=UTC:20260214T190000
DTEND;TZID=UTC:20260214T190000
DTSTAMP:20260420T053742
CREATED:20260205T170656Z
LAST-MODIFIED:20260306T111624Z
UID:3998-1771095600-1771095600@packwolverhampton.co.uk
SUMMARY:Bansal Electrics (duo)
DESCRIPTION:Bansal Electrics are an acoustic/electric duo known for lively\, crowd-friendly performances covering classic songs from the 1960s through to the 2000s. Drawing from decades of great music\, they put their own feel on familiar tunes in a way that suits relaxed pub sets\, open mic nights\, and live showcases alike. \nTheir live appearances often take them to local venues and open mic showcases where they bring energy\, musicality\, and a welcoming presence to every stage. With a mix of acoustic warmth and electric drive\, Bansal Electrics create sets that appeal to audiences who enjoy hearing favourite tracks delivered with style and skill. \nThey are playing soon at PACK Wolverhampton\, bringing their wide-ranging set and engaging live performance to the bar for a night of enjoyable music and good atmosphere.
URL:https://packwolverhampton.co.uk/event/bansal-electrics-duo-2/
CATEGORIES:Live Music
END:VEVENT
END:VCALENDAR