BEGIN:VCALENDAR
VERSION:2.0
PRODID:-//PACK Perfect Ale, Cask &amp; Keg - Wolverhampton - ECPv6.15.16//NONSGML v1.0//EN
CALSCALE:GREGORIAN
METHOD:PUBLISH
X-ORIGINAL-URL:https://packwolverhampton.co.uk
X-WR-CALDESC:Events for PACK Perfect Ale, Cask &amp; Keg - Wolverhampton
REFRESH-INTERVAL;VALUE=DURATION:PT1H
X-Robots-Tag:noindex
X-PUBLISHED-TTL:PT1H
BEGIN:VTIMEZONE
TZID:UTC
BEGIN:STANDARD
TZOFFSETFROM:+0000
TZOFFSETTO:+0000
TZNAME:UTC
DTSTART:20250101T000000
END:STANDARD
END:VTIMEZONE
BEGIN:VEVENT
DTSTART;TZID=UTC:20260213T190000
DTEND;TZID=UTC:20260213T190000
DTSTAMP:20260419T211708
CREATED:20260205T170654Z
LAST-MODIFIED:20260306T111622Z
UID:3997-1771009200-1771009200@packwolverhampton.co.uk
SUMMARY:Brandon Grindley
DESCRIPTION:Brandon Grindey is a live musician and singer-guitarist known for lively performances across venues in the Midlands and North West\, bringing engaging acoustic sets and crowd-friendly energy to every show. He regularly features at local pubs\, bars\, and music nights where his blend of well-picked covers and dynamic live delivery create a welcoming musical atmosphere for audiences of all ages. \nBrandon’s live appearances often highlight his ability to connect with a crowd and deliver songs that keep people listening\, singing along\, and coming back for more. His style bridges familiar favourites with an easygoing acoustic sensibility that suits both laid-back sessions and livelier gig settings. \nHe’s playing soon at PACK Wolverhampton\, bringing his vibrant live set to the bar for an evening of enjoyable music\, great vibes\, and a night worth remembering.
URL:https://packwolverhampton.co.uk/event/brandon-grindley-2/
CATEGORIES:Live Music
END:VEVENT
END:VCALENDAR